BEGIN:VCALENDAR
VERSION:2.0
PRODID:-//81.19.159.79//NONSGML kigkonsult.se iCalcreator 2.20//
CALSCALE:GREGORIAN
METHOD:PUBLISH
X-WR-TIMEZONE:UTC
BEGIN:VEVENT
UID:event93@Krocant - Edelsbach
DTSTAMP:20260423T101051Z
CATEGORIES:Veranstaltungen
DESCRIPTION:vokal.total out of Graz\nKategorie: Veranstaltungen\nICS-Link: 
 https://krocant.at/index.php?option=com_jem&view=event&id=93:vokal-total-o
 ut-of-graz\n
DTSTART:20250718T190000Z
DTEND:20250718T210000Z
LOCATION:Pfarrkirche Edelsbach\,8332 Edelsbach bei Feldbach
SUMMARY:vokal.total out of Graz
URL:https://krocant.at/index.php?option=com_jem&view=event&id=93:vokal-tota
 l-out-of-graz
END:VEVENT
END:VCALENDAR
